BEGIN:VCALENDAR
VERSION:2.0
PRODID:-//wp-events-plugin.com//7.2.3.1//EN
TZID:Europe/Berlin
X-WR-TIMEZONE:Europe/Berlin
BEGIN:VEVENT
UID:1199@lsvdelmenhorst.de
DTSTART:20260314T090000Z
DTEND:20260314T180000Z
DTSTAMP:20260225T194723Z
URL:https://lsvdelmenhorst.de/events/anfliegen/
SUMMARY:Anfliegen
DESCRIPTION:Nach dem langen Winter starten wir in die Saison 2026
CATEGORIES:Öffentlich
END:VEVENT
END:VCALENDAR